BEGIN:VCALENDAR
VERSION:2.0
PRODID:-// - ECPv6.15.17.1//NONSGML v1.0//EN
CALSCALE:GREGORIAN
METHOD:PUBLISH
X-ORIGINAL-URL:https://whatsoncosta.com
X-WR-CALDESC:Events for 
REFRESH-INTERVAL;VALUE=DURATION:PT1H
X-Robots-Tag:noindex
X-PUBLISHED-TTL:PT1H
BEGIN:VTIMEZONE
TZID:Europe/Madrid
BEGIN:DAYLIGHT
TZOFFSETFROM:+0100
TZOFFSETTO:+0200
TZNAME:CEST
DTSTART:20250330T010000
END:DAYLIGHT
BEGIN:STANDARD
TZOFFSETFROM:+0200
TZOFFSETTO:+0100
TZNAME:CET
DTSTART:20251026T010000
END:STANDARD
BEGIN:DAYLIGHT
TZOFFSETFROM:+0100
TZOFFSETTO:+0200
TZNAME:CEST
DTSTART:20260329T010000
END:DAYLIGHT
BEGIN:STANDARD
TZOFFSETFROM:+0200
TZOFFSETTO:+0100
TZNAME:CET
DTSTART:20261025T010000
END:STANDARD
BEGIN:DAYLIGHT
TZOFFSETFROM:+0100
TZOFFSETTO:+0200
TZNAME:CEST
DTSTART:20270328T010000
END:DAYLIGHT
BEGIN:STANDARD
TZOFFSETFROM:+0200
TZOFFSETTO:+0100
TZNAME:CET
DTSTART:20271031T010000
END:STANDARD
END:VTIMEZONE
BEGIN:VEVENT
DTSTART;TZID=Europe/Madrid:20260407T193000
DTEND;TZID=Europe/Madrid:20260407T223000
DTSTAMP:20260423T221226
CREATED:20260323T100427Z
LAST-MODIFIED:20260323T100550Z
UID:334-1775590200-1775601000@whatsoncosta.com
SUMMARY:Rob's Right Good Entertainment
DESCRIPTION:Bullseye\, music bingo\, play your cards right\, all your favourite 80s game shows! \nBooking essential to reserve your spot. \nHappy hour Tuesdays\, Wednesdays\, Thursdays 5-7pm
URL:https://whatsoncosta.com/event/robs-right-good-entertainment-3/
LOCATION:Café Albert\, Calle Mandarino 8\, Entrenaranjos\, 03319
CATEGORIES:Quiz
END:VEVENT
END:VCALENDAR