BEGIN:VCALENDAR
VERSION:2.0
PRODID:-// - ECPv6.15.17.1//NONSGML v1.0//EN
CALSCALE:GREGORIAN
METHOD:PUBLISH
X-ORIGINAL-URL:https://whatsoncosta.com
X-WR-CALDESC:Events for 
REFRESH-INTERVAL;VALUE=DURATION:PT1H
X-Robots-Tag:noindex
X-PUBLISHED-TTL:PT1H
BEGIN:VTIMEZONE
TZID:Europe/Madrid
BEGIN:DAYLIGHT
TZOFFSETFROM:+0100
TZOFFSETTO:+0200
TZNAME:CEST
DTSTART:20250330T010000
END:DAYLIGHT
BEGIN:STANDARD
TZOFFSETFROM:+0200
TZOFFSETTO:+0100
TZNAME:CET
DTSTART:20251026T010000
END:STANDARD
BEGIN:DAYLIGHT
TZOFFSETFROM:+0100
TZOFFSETTO:+0200
TZNAME:CEST
DTSTART:20260329T010000
END:DAYLIGHT
BEGIN:STANDARD
TZOFFSETFROM:+0200
TZOFFSETTO:+0100
TZNAME:CET
DTSTART:20261025T010000
END:STANDARD
BEGIN:DAYLIGHT
TZOFFSETFROM:+0100
TZOFFSETTO:+0200
TZNAME:CEST
DTSTART:20270328T010000
END:DAYLIGHT
BEGIN:STANDARD
TZOFFSETFROM:+0200
TZOFFSETTO:+0100
TZNAME:CET
DTSTART:20271031T010000
END:STANDARD
END:VTIMEZONE
BEGIN:VEVENT
DTSTART;TZID=Europe/Madrid:20260418T190000
DTEND;TZID=Europe/Madrid:20260418T210000
DTSTAMP:20260423T150246
CREATED:20260417T054118Z
LAST-MODIFIED:20260417T054118Z
UID:529-1776538800-1776546000@whatsoncosta.com
SUMMARY:Elvis Tribute
DESCRIPTION:Just pretend!
URL:https://whatsoncosta.com/event/elvis-tribute-2/
LOCATION:Vista Lounge Cafe Bar\, Avenida de las Naciones 22\, Ciudad Quesada\, 03170
CATEGORIES:Tribute Acts
END:VEVENT
BEGIN:VEVENT
DTSTART;TZID=Europe/Madrid:20260418T203000
DTEND;TZID=Europe/Madrid:20260418T230000
DTSTAMP:20260423T150246
CREATED:20260417T055006Z
LAST-MODIFIED:20260417T055006Z
UID:537-1776544200-1776553200@whatsoncosta.com
SUMMARY:Take That Tribute
DESCRIPTION:RELIGHT THE FIRE – Take That Tribute \n\n\nThis is an absolutely fantastic act you don’t want to miss!  Get ready for an incredible night of music\, energy\, and all your favorite hits! \n\n\n Tickets are selling FAST\, so don’t wait!\n Call us now on +34 966 729 707 to book your spot!\nOr pop in to book\, have a drink while you’re here!\nSee you there!
URL:https://whatsoncosta.com/event/take-that-tribute-2/
LOCATION:Hotel Restaurant Bar Algorfa\, Calle Pablo Picasso 1\, Algorfa\, 03169\, Spain
CATEGORIES:Tribute Acts
END:VEVENT
END:VCALENDAR