BEGIN:VCALENDAR
VERSION:2.0
PRODID:-// - ECPv6.15.17.1//NONSGML v1.0//EN
CALSCALE:GREGORIAN
METHOD:PUBLISH
X-ORIGINAL-URL:https://whatsoncosta.com
X-WR-CALDESC:Events for 
REFRESH-INTERVAL;VALUE=DURATION:PT1H
X-Robots-Tag:noindex
X-PUBLISHED-TTL:PT1H
BEGIN:VTIMEZONE
TZID:Europe/Madrid
BEGIN:DAYLIGHT
TZOFFSETFROM:+0100
TZOFFSETTO:+0200
TZNAME:CEST
DTSTART:20250330T010000
END:DAYLIGHT
BEGIN:STANDARD
TZOFFSETFROM:+0200
TZOFFSETTO:+0100
TZNAME:CET
DTSTART:20251026T010000
END:STANDARD
BEGIN:DAYLIGHT
TZOFFSETFROM:+0100
TZOFFSETTO:+0200
TZNAME:CEST
DTSTART:20260329T010000
END:DAYLIGHT
BEGIN:STANDARD
TZOFFSETFROM:+0200
TZOFFSETTO:+0100
TZNAME:CET
DTSTART:20261025T010000
END:STANDARD
BEGIN:DAYLIGHT
TZOFFSETFROM:+0100
TZOFFSETTO:+0200
TZNAME:CEST
DTSTART:20270328T010000
END:DAYLIGHT
BEGIN:STANDARD
TZOFFSETFROM:+0200
TZOFFSETTO:+0100
TZNAME:CET
DTSTART:20271031T010000
END:STANDARD
END:VTIMEZONE
BEGIN:VEVENT
DTSTART;TZID=Europe/Madrid:20260423T210000
DTEND;TZID=Europe/Madrid:20260423T230000
DTSTAMP:20260423T163856
CREATED:20260316T162640Z
LAST-MODIFIED:20260316T162640Z
UID:56-1776978000-1776985200@whatsoncosta.com
SUMMARY:Pure McCartney
DESCRIPTION:Live 5-piece band featuring the music of The Beatles and Wings
URL:https://whatsoncosta.com/event/pure-mccartney/
LOCATION:The Quesada Club\, Calle Toledo 24\, Ciudad Quesada\, 03170\, Spain
CATEGORIES:Live Music
END:VEVENT
BEGIN:VEVENT
DTSTART;TZID=Europe/Madrid:20260430T210000
DTEND;TZID=Europe/Madrid:20260430T230000
DTSTAMP:20260423T163856
CREATED:20260316T173554Z
LAST-MODIFIED:20260316T173554Z
UID:81-1777582800-1777590000@whatsoncosta.com
SUMMARY:Queen Tribute
DESCRIPTION:Keeng tribute to Queen at The Quesada Club
URL:https://whatsoncosta.com/event/queen-tribute/
LOCATION:The Quesada Club\, Calle Toledo 24\, Ciudad Quesada\, 03170\, Spain
CATEGORIES:Live Music
END:VEVENT
END:VCALENDAR